Workbook

Sheet Formular Zuordnung Gefahrstoffe
B1: Arbeitshilfe zur Gefährdungsbeurteilung Ebene 2
A2: Ermittlung der erforderlichen Luftwechselrate im Labor bei Tätigkeiten mit Gefahrstoffen
A4: Fachgebiet / Team / Zentraleinrichtung
A5: Institut + Fak / Abteilung + Referat
A6: Standort | B6: Gebäude | D6: Räume
A7: Verantwortliche Führungskraft | D7: Unterschrift
A8: Kontakt | B8: Telefon | D8: E-Mail
A9: Sekretariat
A11: Bitte kreuzen Sie für jede Gefährlichkeitsgruppe (H-Sätze) die höchstmögliche Einstufung sowohl für die Mengengruppe als auch für die Freisetzungsgruppe an.
A12: Gefährlichkeit | B12: Mengengruppe | D12: Freisetzungsgruppe
A13: H-Sätze | B13: gering | C13: mittel | D13: niedrig | E13: mittel | F13: hoch
A14: Gesundheitsgefährdende Gefahrstoffe
A15: H304, H319, H335, H336, EUH201A, EUH207, EUH211, EUH212
A16: H302, H318, H332, H371
A17: H301, H314, H331, H334, H341, H351, H361, H361d, H361f, H361fd, H370, H373, EUH029, EUH031, EUH070, EUH071
A18: H300, H330, H360D, H360Df, H372, EUH032
A19: H340, H350, H350i, H360, H360F, H360Fd, H360FD
A20: Brand- und explosionsgefährliche Gefahrstoffe
A21: Feststoffe mit der Brennzahl (BZ) 1-3
A22: H226, H252, H280, H281, H290, EUH206, EUH209A, Feststoffe mit der BZ 4-6
A23: H222, H223, H224, H225, H228, H229, H251, EUH018, EUH209, staubende Feststoffe
A24: H242, H261, H270, H271, H272, EUH014, EUH044
A25: H200 bis H208 H220, H221, H230 bis H232, H240, H241, H250, H260, EUH001, EUH006, EUH019
A27: Festgestellter minimaler Luftwechel: | B27: =IF(SUM(Berechnung!L5:L15)>0,Berechnung!L16,IF(Berechnung!I16>0,"8-fach",IF(Berechnung!H16>0,"4-fach",IF(Berechnung!G16>0,"2-fach","Bitte füllen Sie die Tabelle aus.")))) -> Bitte füllen Sie die Tabelle aus.
A29: Legende | C29: Feststoffe | E29: Flüssigkeiten
A30: Mengengruppe | B30: gering | C30: £ 500 | D30: g | E30: £ 500 | F30: ml
B31: mittel | C31: > 500 | D31: g | E31: > 500 | F31: ml
A32: Freisetzungsgruppe | C32: Staubbildung | E32: Siedepunkt | F32: Dampfdr.
B33: niedrig | C33: kaum Staub | E33: >150°C | F33: < 5hPa
B34: mittel | C34: setzender Staub | E34: > 50°C | F34: £ 250hPa
B35: hoch | C35: schwebender Staub | E35: £ 50°C | F35: > 250hPa

Sheet Berechnung
A1: Berechnungstabelle
A2: Gefährlichkeit | B2: Mengengruppe | D2: Freisetzungsgruppe | H2: Luftwechsel | K2: Fehlerbetrachtung
A3: H-Sätze | B3: gering | C3: mittel | D3: niedrig | E3: mittel | F3: hoch | G3: 2fach | H3: 4fach | I3: 8fach | J3: Mengengruppe | K3: Freisetzungsgr. | L3: Status
A4: Gesundheitsgefährdende Gefahrstoffe
A5: H304, H319, H335, H336, EUH201A, EUH207, EUH211 und EUH212 | B5: =IF('Formular Zuordnung Gefahrstoffe'!B15<>"",1,0) -> 0 | C5: =IF('Formular Zuordnung Gefahrstoffe'!C15<>"",1,0) -> 0 | D5: =IF('Formular Zuordnung Gefahrstoffe'!D15<>"",1,0) -> 0 | E5: =IF('Formular Zuordnung Gefahrstoffe'!E15<>"",1,0) -> 0 | F5: =IF('Formular Zuordnung Gefahrstoffe'!F15<>"",1,0) -> 0 | G5: =IF(H5<>0,0,IF(PRODUCT(B5,D5)<>0,1,IF(PRODUCT(B5,E5)<>0,1,IF(PRODUCT(B5,F5)<>0,1,IF(PRODUCT(C5,D5)<>0,1,IF(PRODUCT(C5,E5)<>0,1,0)))))) -> 0 | H5: =IF(PRODUCT(C5,F5)<>0,1,0) -> 0 | I5: 0 | J5: =SUM(B5:C5) -> 0 | K5: =SUM(D5:F5) -> 0 | L5: =IF(AND(J5=0,SUM(J5:K5)=0),0,IF(AND(J5=1,SUM(J5:K5)=2),0,1)) -> 0
A6: H302, H318, H332, H371 | B6: =IF('Formular Zuordnung Gefahrstoffe'!B16<>"",1,0) -> 0 | C6: =IF('Formular Zuordnung Gefahrstoffe'!C16<>"",1,0) -> 0 | D6: =IF('Formular Zuordnung Gefahrstoffe'!D16<>"",1,0) -> 0 | E6: =IF('Formular Zuordnung Gefahrstoffe'!E16<>"",1,0) -> 0 | F6: =IF('Formular Zuordnung Gefahrstoffe'!F16<>"",1,0) -> 0 | G6: =IF(H6<>0,0,IF(PRODUCT(B6,D6)<>0,1,IF(PRODUCT(B6,E6)<>0,1,IF(PRODUCT(B6,F6)<>0,1,IF(PRODUCT(C6,D6)<>0,1,0))))) -> 0 | H6: =IF(PRODUCT(C6,E6)<>0,1,IF(PRODUCT(C6,F6)<>0,1,0)) -> 0 | I6: 0 | J6: =SUM(B6:C6) -> 0 | K6: =SUM(D6:F6) -> 0 | L6: =IF(AND(J6=0,SUM(J6:K6)=0),0,IF(AND(J6=1,SUM(J6:K6)=2),0,1)) -> 0
A7: H301, H314, H331, H334, H341, H351, H361, H361d, H361f, H361fd, H370, H373, EUH029, EUH031, EUH070, EUH071 | B7: =IF('Formular Zuordnung Gefahrstoffe'!B17<>"",1,0) -> 0 | C7: =IF('Formular Zuordnung Gefahrstoffe'!C17<>"",1,0) -> 0 | D7: =IF('Formular Zuordnung Gefahrstoffe'!D17<>"",1,0) -> 0 | E7: =IF('Formular Zuordnung Gefahrstoffe'!E17<>"",1,0) -> 0 | F7: =IF('Formular Zuordnung Gefahrstoffe'!F17<>"",1,0) -> 0 | G7: =IF(OR(H7<>0,I7<>0),0,IF(PRODUCT(B7,D7)<>0,1,0)) -> 0 | H7: =IF(I7<>0,0,IF(PRODUCT(B7,E7)<>0,1,IF(PRODUCT(B7,F7)<>0,1,IF(PRODUCT(C7,D7)<>0,1,0)))) -> 0 | I7: =IF(PRODUCT(C7,E7)<>0,1,IF(PRODUCT(C7,F7)<>0,1,0)) -> 0 | J7: =SUM(B7:C7) -> 0 | K7: =SUM(D7:F7) -> 0 | L7: =IF(AND(J7=0,SUM(J7:K7)=0),0,IF(AND(J7=1,SUM(J7:K7)=2),0,1)) -> 0
A8: H300, H330, H360D, H360Df, H372, EUH032 | B8: =IF('Formular Zuordnung Gefahrstoffe'!B18<>"",1,0) -> 0 | C8: =IF('Formular Zuordnung Gefahrstoffe'!C18<>"",1,0) -> 0 | D8: =IF('Formular Zuordnung Gefahrstoffe'!D18<>"",1,0) -> 0 | E8: =IF('Formular Zuordnung Gefahrstoffe'!E18<>"",1,0) -> 0 | F8: =IF('Formular Zuordnung Gefahrstoffe'!F18<>"",1,0) -> 0 | G8: 0 | H8: =IF(I8<>0,0,IF(PRODUCT(B8,D8)<>0,1,0)) -> 0 | I8: =IF(PRODUCT(C8,E8)<>0,1,IF(PRODUCT(C8,F8)<>0,1,IF(PRODUCT(C8,D8)<>0,1,IF(PRODUCT(B8,E8)<>0,1,IF(PRODUCT(B8,F8)<>0,1,0))))) -> 0 | J8: =SUM(B8:C8) -> 0 | K8: =SUM(D8:F8) -> 0 | L8: =IF(AND(J8=0,SUM(J8:K8)=0),0,IF(AND(J8=1,SUM(J8:K8)=2),0,1)) -> 0
A9: H340, H350, H350i, H360, H360F, H360Fd, H360FD | B9: =IF('Formular Zuordnung Gefahrstoffe'!B19<>"",1,0) -> 0 | C9: =IF('Formular Zuordnung Gefahrstoffe'!C19<>"",1,0) -> 0 | D9: =IF('Formular Zuordnung Gefahrstoffe'!D19<>"",1,0) -> 0 | E9: =IF('Formular Zuordnung Gefahrstoffe'!E19<>"",1,0) -> 0 | F9: =IF('Formular Zuordnung Gefahrstoffe'!F19<>"",1,0) -> 0 | G9: 0 | H9: 0 | I9: =IF(PRODUCT(C9,E9)<>0,1,IF(PRODUCT(C9,F9)<>0,1,IF(PRODUCT(C9,D9)<>0,1,IF(PRODUCT(B9,D9)<>0,1,IF(PRODUCT(B9,E9)<>0,1,IF(PRODUCT(B9,F9)<>0,1,0)))))) -> 0 | J9: =SUM(B9:C9) -> 0 | K9: =SUM(D9:F9) -> 0 | L9: =IF(AND(J9=0,SUM(J9:K9)=0),0,IF(AND(J9=1,SUM(J9:K9)=2),0,1)) -> 0
A10: Brand- und explosionsgefährliche Gefahrstoffe
A11: Feststoffe mit der Brennzahl (BZ) 1-3 | B11: =IF('Formular Zuordnung Gefahrstoffe'!B21<>"",1,0) -> 0 | C11: =IF('Formular Zuordnung Gefahrstoffe'!C21<>"",1,0) -> 0 | D11: =IF('Formular Zuordnung Gefahrstoffe'!D21<>"",1,0) -> 0 | E11: =IF('Formular Zuordnung Gefahrstoffe'!E21<>"",1,0) -> 0 | F11: =IF('Formular Zuordnung Gefahrstoffe'!F21<>"",1,0) -> 0 | G11: =IF(H11<>0,0,IF(PRODUCT(B11,D11)<>0,1,IF(PRODUCT(B11,E11)<>0,1,IF(PRODUCT(B11,F11)<>0,1,IF(PRODUCT(C11,D11)<>0,1,IF(PRODUCT(C11,E11)<>0,1,0)))))) -> 0 | H11: =IF(PRODUCT(C11,F11)<>0,1,0) -> 0 | I11: 0 | J11: =SUM(B11:C11) -> 0 | K11: =SUM(D11:F11) -> 0 | L11: =IF(AND(J11=0,SUM(J11:K11)=0),0,IF(AND(J11=1,SUM(J11:K11)=2),0,1)) -> 0
A12: H226, H252, H280, H281, H290, EUH206, EUH209A, Festst. BZ 4-6 | B12: =IF('Formular Zuordnung Gefahrstoffe'!B22<>"",1,0) -> 0 | C12: =IF('Formular Zuordnung Gefahrstoffe'!C22<>"",1,0) -> 0 | D12: =IF('Formular Zuordnung Gefahrstoffe'!D22<>"",1,0) -> 0 | E12: =IF('Formular Zuordnung Gefahrstoffe'!E22<>"",1,0) -> 0 | F12: =IF('Formular Zuordnung Gefahrstoffe'!F22<>"",1,0) -> 0 | G12: =IF(H12<>0,0,IF(PRODUCT(B12,D12)<>0,1,IF(PRODUCT(B12,E12)<>0,1,IF(PRODUCT(B12,F12)<>0,1,IF(PRODUCT(C12,D12)<>0,1,0))))) -> 0 | H12: =IF(PRODUCT(C12,E12)<>0,1,IF(PRODUCT(C12,F12)<>0,1,0)) -> 0 | I12: 0 | J12: =SUM(B12:C12) -> 0 | K12: =SUM(D12:F12) -> 0 | L12: =IF(AND(J12=0,SUM(J12:K12)=0),0,IF(AND(J12=1,SUM(J12:K12)=2),0,1)) -> 0
A13: H222, H223, H224, H225, H228, H229, H251, EUH018, EUH209, staubende Festst. | B13: =IF('Formular Zuordnung Gefahrstoffe'!B23<>"",1,0) -> 0 | C13: =IF('Formular Zuordnung Gefahrstoffe'!C23<>"",1,0) -> 0 | D13: =IF('Formular Zuordnung Gefahrstoffe'!D23<>"",1,0) -> 0 | E13: =IF('Formular Zuordnung Gefahrstoffe'!E23<>"",1,0) -> 0 | F13: =IF('Formular Zuordnung Gefahrstoffe'!F23<>"",1,0) -> 0 | G13: =IF(OR(H13<>0,I13<>0),0,IF(PRODUCT(B13,D13)<>0,1,IF(PRODUCT(B13,E13)<>0,1,0))) -> 0 | H13: =IF(I13<>0,0,IF(PRODUCT(B13,F13)<>0,1,IF(PRODUCT(C13,D13)<>0,1,IF(PRODUCT(C13,E13)<>0,1,0)))) -> 0 | I13: =IF(PRODUCT(C13,F13)<>0,1,0) -> 0 | J13: =SUM(B13:C13) -> 0 | K13: =SUM(D13:F13) -> 0 | L13: =IF(AND(J13=0,SUM(J13:K13)=0),0,IF(AND(J13=1,SUM(J13:K13)=2),0,1)) -> 0
A14: H242, H261, H270, H271, H272, EUH014, EUH044 | B14: =IF('Formular Zuordnung Gefahrstoffe'!B24<>"",1,0) -> 0 | C14: =IF('Formular Zuordnung Gefahrstoffe'!C24<>"",1,0) -> 0 | D14: =IF('Formular Zuordnung Gefahrstoffe'!D24<>"",1,0) -> 0 | E14: =IF('Formular Zuordnung Gefahrstoffe'!E24<>"",1,0) -> 0 | F14: =IF('Formular Zuordnung Gefahrstoffe'!F24<>"",1,0) -> 0 | G14: 0 | H14: 0 | I14: =IF(PRODUCT(C14,E14)<>0,1,IF(PRODUCT(C14,F14)<>0,1,IF(PRODUCT(C14,D14)<>0,1,IF(PRODUCT(B14,D14)<>0,1,IF(PRODUCT(B14,E14)<>0,1,IF(PRODUCT(B14,F14)<>0,1,0)))))) -> 0 | J14: =SUM(B14:C14) -> 0 | K14: =SUM(D14:F14) -> 0 | L14: =IF(AND(J14=0,SUM(J14:K14)=0),0,IF(AND(J14=1,SUM(J14:K14)=2),0,1)) -> 0
A15: H200 bis H208 H220, H221, H230 bis H232, H240, H241, H250, H260, EUH001, EUH006, EUH019 | B15: =IF('Formular Zuordnung Gefahrstoffe'!B25<>"",1,0) -> 0 | C15: =IF('Formular Zuordnung Gefahrstoffe'!C25<>"",1,0) -> 0 | D15: =IF('Formular Zuordnung Gefahrstoffe'!D25<>"",1,0) -> 0 | E15: =IF('Formular Zuordnung Gefahrstoffe'!E25<>"",1,0) -> 0 | F15: =IF('Formular Zuordnung Gefahrstoffe'!F25<>"",1,0) -> 0 | G15: 0 | H15: 0 | I15: =IF(PRODUCT(C15,E15)<>0,1,IF(PRODUCT(C15,F15)<>0,1,IF(PRODUCT(C15,D15)<>0,1,IF(PRODUCT(B15,D15)<>0,1,IF(PRODUCT(B15,E15)<>0,1,IF(PRODUCT(B15,F15)<>0,1,0)))))) -> 0 | J15: =SUM(B15:C15) -> 0 | K15: =SUM(D15:F15) -> 0 | L15: =IF(AND(J15=0,SUM(J15:K15)=0),0,IF(AND(J15=1,SUM(J15:K15)=2),0,1)) -> 0
A16: SUMME | G16: =IF(OR(H16<>0,I16<>0),0,IF(SUM(G5:G15)>0,1,0)) -> 0 | H16: =IF(I16<>0,0,IF(SUM(H5:H15)>0,1,0)) -> 0 | I16: =IF(SUM(I5:I15)>0,1,0) -> 0 | L16: =IF(SUM(L5:L15)>0,"Bitte überprüfen Sie Ihre Eingaben","Eingaben plausibel") -> Eingaben plausibel
